BEGIN:VCALENDAR
VERSION:2.0
PRODID:nkc_event TYPO3 Extension
METHOD:PUBLISH
BEGIN:VEVENT
UID:1de69119eefebc8b5d2e04811dfdb1e0
LOCATION:St. Petri-Dom Schleswig
SUMMARY:Wochenschlussandacht
DESCRIPTION:
CLASS:PUBLIC
DTSTART:20260502T163000Z
DTEND:20260502T173000Z
DTSTAMP:20260424T133104Z
END:VEVENT

END:VCALENDAR