BEGIN:VCALENDAR
VERSION:2.0
PRODID:nkc_event TYPO3 Extension
METHOD:PUBLISH
BEGIN:VEVENT
UID:d3a186ff01f32c68c4ba38c3973b880d
LOCATION:St. Petri-Dom Schleswig
SUMMARY:Wochenschlussandacht
DESCRIPTION:
CLASS:PUBLIC
DTSTART:20260509T163000Z
DTEND:20260509T173000Z
DTSTAMP:20260424T144934Z
END:VEVENT

END:VCALENDAR