BEGIN:VCALENDAR
VERSION:2.0
PRODID:nkc_event TYPO3 Extension
METHOD:PUBLISH
BEGIN:VEVENT
UID:3a9f38403817821af898187a568ae237
LOCATION:St. Petri-Dom Schleswig
SUMMARY:Wochenschlussandandacht
DESCRIPTION:
CLASS:PUBLIC
DTSTART:20250322T173000Z
DTEND:20250322T183000Z
DTSTAMP:20260421T173709Z
END:VEVENT

END:VCALENDAR